BEGIN:VCALENDAR
BEGIN:VEVENT
SUMMARY:Funeral notice for LITTEN\, Antoinette Therese
DTSTART:20260429T000000
DTEND:20260430T000000
DTSTAMP:20260425T035856Z
UID:6352421
DESCRIPTION:For the Funeral time and location details\, please view the no
 tice on the My Tributes site. (https://www.denipt.com.au/tributes/notice/f
 uneral-notices/litten-antoinette-therese/6352421/)
END:VEVENT
END:VCALENDAR
