BEGIN:VCALENDAR
BEGIN:VEVENT
SUMMARY:Funeral notice for PAECH\, Ian Graham
DTSTART:20260414T000000
DTEND:20260415T000000
DTSTAMP:20260423T020058Z
UID:6352587
DESCRIPTION:For the Funeral time and location details\, please view the no
 tice on the My Tributes site. (https://www.denipt.com.au/tributes/notice/f
 uneral-notices/paech-ian-graham/6352587/)
END:VEVENT
END:VCALENDAR
