BEGIN:VCALENDAR
BEGIN:VEVENT
SUMMARY:Funeral notice for PULLEN\, Anne Michelle
DTSTART:20260413T000000
DTEND:20260414T000000
DTSTAMP:20260420T002158Z
UID:6353024
DESCRIPTION:For the Funeral time and location details\, please view the no
 tice on the My Tributes site. (https://www.denipt.com.au/tributes/notice/f
 uneral-notices/pullen-anne-michelle/6353024/)
END:VEVENT
END:VCALENDAR
