BEGIN:VCALENDAR
BEGIN:VEVENT
SUMMARY:Funeral notice for COLAGROSSI\, Donatina
DTSTART:20260418T000000
DTEND:20260419T000000
DTSTAMP:20260423T155940Z
UID:6353344
DESCRIPTION:For the Funeral time and location details\, please view the no
 tice on the My Tributes site. (https://www.denipt.com.au/tributes/notice/f
 uneral-notices/colagrossi-donatina/6353344/)
END:VEVENT
END:VCALENDAR
