BEGIN:VCALENDAR
BEGIN:VEVENT
SUMMARY:Funeral notice for GEORGE\, Claire Marie.
DTSTART:20260414T000000
DTEND:20260415T000000
DTSTAMP:20260420T003506Z
UID:6353772
DESCRIPTION:For the Funeral time and location details\, please view the no
 tice on the My Tributes site. (https://www.denipt.com.au/tributes/notice/f
 uneral-notices/george-claire-marie/6353772/)
END:VEVENT
END:VCALENDAR
