BEGIN:VCALENDAR
BEGIN:VEVENT
SUMMARY:Funeral notice for MCDONNELL\, Scott (Scotty Mac)
DTSTART:20260424T000000
DTEND:20260425T000000
DTSTAMP:20260423T045433Z
UID:6354033
DESCRIPTION:For the Funeral time and location details\, please view the no
 tice on the My Tributes site. (https://www.denipt.com.au/tributes/notice/f
 uneral-notices/mcdonnell-scott-scotty-mac/6354033/)
END:VEVENT
END:VCALENDAR
