BEGIN:VCALENDAR
BEGIN:VEVENT
SUMMARY:Funeral notice for WALKER\, Graham John
DTSTART:20260424T000000
DTEND:20260425T000000
DTSTAMP:20260424T122043Z
UID:6354058
DESCRIPTION:For the Funeral time and location details\, please view the no
 tice on the My Tributes site. (https://www.denipt.com.au/tributes/notice/f
 uneral-notices/walker-graham-john/6354058/)
END:VEVENT
END:VCALENDAR
