BEGIN:VCALENDAR
BEGIN:VEVENT
SUMMARY:Funeral notice for BUSCH\, Kevin Francis
DTSTART:20260424T000000
DTEND:20260425T000000
DTSTAMP:20260420T132115Z
UID:6354407
DESCRIPTION:For the Funeral time and location details\, please view the no
 tice on the My Tributes site. (https://www.denipt.com.au/tributes/notice/f
 uneral-notices/busch-kevin-francis/6354407/)
END:VEVENT
END:VCALENDAR
