BEGIN:VCALENDAR
BEGIN:VEVENT
SUMMARY:Funeral notice for AH SHAY (NEE HAMMETT)\, Beryl Lavinia
DTSTART:20260429T000000
DTEND:20260430T000000
DTSTAMP:20260422T194711Z
UID:6354422
DESCRIPTION:For the Funeral time and location details\, please view the no
 tice on the My Tributes site. (https://www.denipt.com.au/tributes/notice/f
 uneral-notices/ah-shay-nee-hammett-beryl-lavinia/6354422/)
END:VEVENT
END:VCALENDAR
