BEGIN:VCALENDAR
BEGIN:VEVENT
SUMMARY:Funeral notice for LAWRENCE\, Ronald Slim
DTSTART:20260424T000000
DTEND:20260425T000000
DTSTAMP:20260425T121917Z
UID:6354444
DESCRIPTION:For the Funeral time and location details\, please view the no
 tice on the My Tributes site. (https://www.denipt.com.au/tributes/notice/f
 uneral-notices/lawrence-ronald-slim/6354444/)
END:VEVENT
END:VCALENDAR
