BEGIN:VCALENDAR
BEGIN:VEVENT
SUMMARY:Funeral notice for ROBERTS\, Gregory David
DTSTART:20260424T000000
DTEND:20260425T000000
DTSTAMP:20260423T143211Z
UID:6354493
DESCRIPTION:For the Funeral time and location details\, please view the no
 tice on the My Tributes site. (https://www.denipt.com.au/tributes/notice/f
 uneral-notices/roberts-gregory-david/6354493/)
END:VEVENT
END:VCALENDAR
