BEGIN:VCALENDAR
BEGIN:VEVENT
SUMMARY:Funeral notice for CURLEY\, Martin Cyril "Marty"
DTSTART:20260423T000000
DTEND:20260424T000000
DTSTAMP:20260420T145459Z
UID:6354608
DESCRIPTION:For the Funeral time and location details\, please view the no
 tice on the My Tributes site. (https://www.denipt.com.au/tributes/notice/f
 uneral-notices/curley-martin-cyril-marty/6354608/)
END:VEVENT
END:VCALENDAR
