BEGIN:VCALENDAR
BEGIN:VEVENT
SUMMARY:Funeral notice for COLLINS\, Gerald David
DTSTART:20260423T000000
DTEND:20260424T000000
DTSTAMP:20260423T142422Z
UID:6354629
DESCRIPTION:For the Funeral time and location details\, please view the no
 tice on the My Tributes site. (https://www.denipt.com.au/tributes/notice/f
 uneral-notices/collins-gerald-david/6354629/)
END:VEVENT
END:VCALENDAR
