BEGIN:VCALENDAR
BEGIN:VEVENT
SUMMARY:Funeral notice for TURNER\, Joyce Christina
DTSTART:20260424T000000
DTEND:20260425T000000
DTSTAMP:20260420T140100Z
UID:6354665
DESCRIPTION:For the Funeral time and location details\, please view the no
 tice on the My Tributes site. (https://www.denipt.com.au/tributes/notice/f
 uneral-notices/turner-joyce-christina/6354665/)
END:VEVENT
END:VCALENDAR
