BEGIN:VCALENDAR
BEGIN:VEVENT
SUMMARY:Funeral notice for BUSCH\, Margaret Rose
DTSTART:20260421T000000
DTEND:20260422T000000
DTSTAMP:20260420T131933Z
UID:6354751
DESCRIPTION:For the Funeral time and location details\, please view the no
 tice on the My Tributes site. (https://www.denipt.com.au/tributes/notice/f
 uneral-notices/busch-margaret-rose/6354751/)
END:VEVENT
END:VCALENDAR
