BEGIN:VCALENDAR
BEGIN:VEVENT
SUMMARY:Funeral notice for ROGERSON\, Kenneth "John"
DTSTART:20260424T000000
DTEND:20260425T000000
DTSTAMP:20260422T210958Z
UID:6354758
DESCRIPTION:For the Funeral time and location details\, please view the no
 tice on the My Tributes site. (https://www.denipt.com.au/tributes/notice/f
 uneral-notices/rogerson-kenneth-john/6354758/)
END:VEVENT
END:VCALENDAR
