BEGIN:VCALENDAR
BEGIN:VEVENT
SUMMARY:Funeral notice for WAIT\, Nora Ellen
DTSTART:20260423T000000
DTEND:20260424T000000
DTSTAMP:20260424T142336Z
UID:6354784
DESCRIPTION:For the Funeral time and location details\, please view the no
 tice on the My Tributes site. (https://www.denipt.com.au/tributes/notice/f
 uneral-notices/wait-nora-ellen/6354784/)
END:VEVENT
END:VCALENDAR
