BEGIN:VCALENDAR
BEGIN:VEVENT
SUMMARY:Funeral notice for STONEY SJ\, Fr Michael David
DTSTART:20260423T000000
DTEND:20260424T000000
DTSTAMP:20260423T034243Z
UID:6354831
DESCRIPTION:For the Funeral time and location details\, please view the no
 tice on the My Tributes site. (https://www.denipt.com.au/tributes/notice/f
 uneral-notices/stoney-sj-fr-michael-david/6354831/)
END:VEVENT
END:VCALENDAR
