BEGIN:VCALENDAR
BEGIN:VEVENT
SUMMARY:Funeral notice for MCLEAN\, Joan
DTSTART:20260424T000000
DTEND:20260425T000000
DTSTAMP:20260424T130003Z
UID:6354845
DESCRIPTION:For the Funeral time and location details\, please view the no
 tice on the My Tributes site. (https://www.denipt.com.au/tributes/notice/f
 uneral-notices/mclean-joan/6354845/)
END:VEVENT
END:VCALENDAR
