BEGIN:VCALENDAR
BEGIN:VEVENT
SUMMARY:Funeral notice for DE MICHELE\, Addolorata (Donna)
DTSTART:20260423T000000
DTEND:20260424T000000
DTSTAMP:20260420T163039Z
UID:6354855
DESCRIPTION:For the Funeral time and location details\, please view the no
 tice on the My Tributes site. (https://www.denipt.com.au/tributes/notice/f
 uneral-notices/de-michele-addolorata-donna/6354855/)
END:VEVENT
END:VCALENDAR
