BEGIN:VCALENDAR
BEGIN:VEVENT
SUMMARY:Funeral notice for DELLIT\, Gayle Sherrye
DTSTART:20260423T000000
DTEND:20260424T000000
DTSTAMP:20260420T180122Z
UID:6354871
DESCRIPTION:For the Funeral time and location details\, please view the no
 tice on the My Tributes site. (https://www.denipt.com.au/tributes/notice/f
 uneral-notices/dellit-gayle-sherrye/6354871/)
END:VEVENT
END:VCALENDAR
