BEGIN:VCALENDAR
BEGIN:VEVENT
SUMMARY:Funeral notice for BARBA\, Luigi Gino
DTSTART:20260428T000000
DTEND:20260429T000000
DTSTAMP:20260420T120304Z
UID:6354884
DESCRIPTION:For the Funeral time and location details\, please view the no
 tice on the My Tributes site. (https://www.denipt.com.au/tributes/notice/f
 uneral-notices/barba-luigi-gino/6354884/)
END:VEVENT
END:VCALENDAR
