BEGIN:VCALENDAR
BEGIN:VEVENT
SUMMARY:Funeral notice for RICHARDSON\, Shirley Noreen
DTSTART:20260423T000000
DTEND:20260424T000000
DTSTAMP:20260424T134105Z
UID:6354899
DESCRIPTION:For the Funeral time and location details\, please view the no
 tice on the My Tributes site. (https://www.denipt.com.au/tributes/notice/f
 uneral-notices/richardson-shirley-noreen/6354899/)
END:VEVENT
END:VCALENDAR
