BEGIN:VCALENDAR
BEGIN:VEVENT
SUMMARY:Funeral notice for GILL\, Stephen Thomas
DTSTART:20260428T000000
DTEND:20260429T000000
DTSTAMP:20260426T091855Z
UID:6355026
DESCRIPTION:For the Funeral time and location details\, please view the no
 tice on the My Tributes site. (https://www.denipt.com.au/tributes/notice/f
 uneral-notices/gill-stephen-thomas/6355026/)
END:VEVENT
END:VCALENDAR
