BEGIN:VCALENDAR
BEGIN:VEVENT
SUMMARY:Funeral notice for FITZGERALD\, John Douglas
DTSTART:20260427T000000
DTEND:20260428T000000
DTSTAMP:20260425T092835Z
UID:6355182
DESCRIPTION:For the Funeral time and location details\, please view the no
 tice on the My Tributes site. (https://www.denipt.com.au/tributes/notice/f
 uneral-notices/fitzgerald-john-douglas/6355182/)
END:VEVENT
END:VCALENDAR
