BEGIN:VCALENDAR
BEGIN:VEVENT
SUMMARY:Funeral notice for FARMER\, Jean
DTSTART:20260427T000000
DTEND:20260428T000000
DTSTAMP:20260425T123957Z
UID:6355188
DESCRIPTION:For the Funeral time and location details\, please view the no
 tice on the My Tributes site. (https://www.denipt.com.au/tributes/notice/f
 uneral-notices/farmer-jean/6355188/)
END:VEVENT
END:VCALENDAR
